BEGIN:VCALENDAR
VERSION:2.0
PRODID:-//Gandelu - ECPv5.16.4//NONSGML v1.0//EN
CALSCALE:GREGORIAN
METHOD:PUBLISH
X-WR-CALNAME:Gandelu
X-ORIGINAL-URL:https://www.gandelu.com
X-WR-CALDESC:évènements pour Gandelu
REFRESH-INTERVAL;VALUE=DURATION:PT1H
X-Robots-Tag:noindex
X-PUBLISHED-TTL:PT1H
BEGIN:VTIMEZONE
TZID:Europe/Paris
BEGIN:DAYLIGHT
TZOFFSETFROM:+0100
TZOFFSETTO:+0200
TZNAME:CEST
DTSTART:20250330T010000
END:DAYLIGHT
BEGIN:STANDARD
TZOFFSETFROM:+0200
TZOFFSETTO:+0100
TZNAME:CET
DTSTART:20251026T010000
END:STANDARD
END:VTIMEZONE
BEGIN:VEVENT
DTSTART;TZID=Europe/Paris:20250701T080000
DTEND;TZID=Europe/Paris:20251231T170000
DTSTAMP:20260421T145359
CREATED:20250630T090203Z
LAST-MODIFIED:20250630T090203Z
UID:1572-1751356800-1767200400@www.gandelu.com
SUMMARY:Campagne de stérilisation et d'identification des chats errants
DESCRIPTION:30062025_095429
URL:https://www.gandelu.com/evenement/campagne-de-sterilisation-et-didentification-des-chats-errants/
LOCATION:Gandelu
ATTACH;FMTTYPE=image/jpeg:https://www.gandelu.com
/wp-content/uploads/2025/06/pexels-pixabay-248350.jpg
END:VEVENT
BEGIN:VEVENT
DTSTART;TZID=Europe/Paris:20250917T080000
DTEND;TZID=Europe/Paris:20251022T170000
DTSTAMP:20260421T145359
CREATED:20250910T132330Z
LAST-MODIFIED:20250910T132330Z
UID:1595-1758096000-1761152400@www.gandelu.com
SUMMARY:Avis de participation du public - Plan Climat Air Energie Territorial
DESCRIPTION:
URL:https://www.gandelu.com/evenement/avis-de-participation-du-public-plan-climat-air-energie-territorial/
ATTACH;FMTTYPE=image/jpeg:https://www.gandelu.com
/wp-content/uploads/2025/09/10092025_141641_0001.jpg
END:VEVENT
END:VCALENDAR